BEGIN:VCALENDAR
VERSION:2.0
PRODID:-//hacksw/handcal//NONSGML v1.0//EN
BEGIN:VEVENT
SUMMARY:Cours premiere annee
UID:74ed95ef-c238-4fb8-a10f-b448486f98c3
DTSTART:20260314T130000Z
DTEND:20260314T143000Z
LOCATION:Localisation   
CATEGORIES:Sportif
STATUS:
URL;VALUE=URI:https://archers-de-quimperle.sportsregions.fr/evenements/2026/03/14/cours-premiere-annee-2427910
END:VEVENT
END:VCALENDAR
