BEGIN:VCALENDAR
VERSION:2.0
PRODID:-//hacksw/handcal//NONSGML v1.0//EN
BEGIN:VEVENT
SUMMARY:Entrainement libre
UID:8157a115-49cf-4722-9c4f-0e989d3ca4a6
DTSTART:20260523T150000Z
DTEND:20260523T180000Z
LOCATION:Localisation   
CATEGORIES:Sportif
STATUS:
URL;VALUE=URI:https://archers-de-quimperle.sportsregions.fr/evenements/2026/05/23/entrainement-libre-2428246
END:VEVENT
END:VCALENDAR
