BEGIN:VCALENDAR
VERSION:2.0
PRODID:-//hacksw/handcal//NONSGML v1.0//EN
BEGIN:VEVENT
SUMMARY:Cours deuxieme et +
UID:b712b400-4a61-430b-a3a2-1bff5c5ebc80
DTSTART:20260530T133000Z
DTEND:20260530T150000Z
LOCATION:Localisation   
CATEGORIES:Sportif
STATUS:
URL;VALUE=URI:https://archers-de-quimperle.sportsregions.fr/evenements/2026/05/30/cours-deuxieme-et-2428091
END:VEVENT
END:VCALENDAR
