BEGIN:VCALENDAR
VERSION:2.0
PRODID:-//hacksw/handcal//NONSGML v1.0//EN
BEGIN:VEVENT
SUMMARY:Cours premiere annee
UID:ba940c35-2a35-47e8-904e-081ccd71a7d3
DTSTART:20260530T120000Z
DTEND:20260530T133000Z
LOCATION:Localisation   
CATEGORIES:Sportif
STATUS:
URL;VALUE=URI:https://archers-de-quimperle.sportsregions.fr/evenements/2026/05/30/cours-premiere-annee-2427937
END:VEVENT
END:VCALENDAR
