BEGIN:VCALENDAR
VERSION:2.0
PRODID:-//hacksw/handcal//NONSGML v1.0//EN
BEGIN:VEVENT
SUMMARY:Entrainement libre
UID:7786052b-465f-467a-a8a3-840fd36c544a
DTSTART:20260530T150000Z
DTEND:20260530T180000Z
LOCATION:Localisation   
CATEGORIES:Sportif
STATUS:
URL;VALUE=URI:https://archers-de-quimperle.sportsregions.fr/evenements/2026/05/30/entrainement-libre-2428245
END:VEVENT
END:VCALENDAR
