BEGIN:VCALENDAR
VERSION:2.0
PRODID:-//hacksw/handcal//NONSGML v1.0//EN
BEGIN:VEVENT
SUMMARY:Cours deuxieme et +
UID:bc1d53a6-86f7-4941-ba84-7d591c780ad1
DTSTART:20260613T133000Z
DTEND:20260613T150000Z
LOCATION:Localisation   
CATEGORIES:Sportif
STATUS:
URL;VALUE=URI:https://archers-de-quimperle.sportsregions.fr/evenements/2026/06/13/cours-deuxieme-et-2428108
END:VEVENT
END:VCALENDAR
