BEGIN:VCALENDAR
VERSION:2.0
PRODID:-//hacksw/handcal//NONSGML v1.0//EN
BEGIN:VEVENT
SUMMARY:Cours premiere annee
UID:ea09544f-e1a1-4ff1-8586-c7051658a964
DTSTART:20260613T120000Z
DTEND:20260613T133000Z
LOCATION:Localisation   
CATEGORIES:Sportif
STATUS:
URL;VALUE=URI:https://archers-de-quimperle.sportsregions.fr/evenements/2026/06/13/cours-premiere-annee-2427954
END:VEVENT
END:VCALENDAR
