BEGIN:VCALENDAR
VERSION:2.0
PRODID:-//hacksw/handcal//NONSGML v1.0//EN
BEGIN:VEVENT
SUMMARY:Cours deuxieme et +
UID:c354a585-2c5d-4633-b9a1-88cbc5eb077b
DTSTART:20260620T133000Z
DTEND:20260620T150000Z
LOCATION:Localisation   
CATEGORIES:Sportif
STATUS:
URL;VALUE=URI:https://archers-de-quimperle.sportsregions.fr/evenements/2026/06/20/cours-deuxieme-et-2428106
END:VEVENT
END:VCALENDAR
