BEGIN:VCALENDAR
VERSION:2.0
PRODID:-//hacksw/handcal//NONSGML v1.0//EN
BEGIN:VEVENT
SUMMARY:Cours premiere annee
UID:4c4bdb2e-39a5-472e-8680-635174a54adf
DTSTART:20260620T120000Z
DTEND:20260620T133000Z
LOCATION:Localisation   
CATEGORIES:Sportif
STATUS:
URL;VALUE=URI:https://archers-de-quimperle.sportsregions.fr/evenements/2026/06/20/cours-premiere-annee-2427952
END:VEVENT
END:VCALENDAR
