BEGIN:VCALENDAR
VERSION:2.0
PRODID:-//hacksw/handcal//NONSGML v1.0//EN
BEGIN:VEVENT
SUMMARY:Entrainement libre
UID:5b6e60c4-5a20-4368-85ac-d339b088be5c
DTSTART:20260620T150000Z
DTEND:20260620T180000Z
LOCATION:Localisation   
CATEGORIES:Sportif
STATUS:
URL;VALUE=URI:https://archers-de-quimperle.sportsregions.fr/evenements/2026/06/20/entrainement-libre-2428260
END:VEVENT
END:VCALENDAR
