BEGIN:VCALENDAR
VERSION:2.0
PRODID:-//hacksw/handcal//NONSGML v1.0//EN
BEGIN:VEVENT
SUMMARY:Cours deuxieme et +
UID:605d29be-b9f6-4288-9f65-18347dca4fcc
DTSTART:20260627T133000Z
DTEND:20260627T150000Z
LOCATION:Localisation   
CATEGORIES:Sportif
STATUS:
URL;VALUE=URI:https://archers-de-quimperle.sportsregions.fr/evenements/2026/06/27/cours-deuxieme-et-2428105
END:VEVENT
END:VCALENDAR
