BEGIN:VCALENDAR
VERSION:2.0
PRODID:-//hacksw/handcal//NONSGML v1.0//EN
BEGIN:VEVENT
SUMMARY:Cours premiere annee
UID:614e1239-2245-447d-985f-52cfed2000a3
DTSTART:20260627T120000Z
DTEND:20260627T133000Z
LOCATION:Localisation   
CATEGORIES:Sportif
STATUS:
URL;VALUE=URI:https://archers-de-quimperle.sportsregions.fr/evenements/2026/06/27/cours-premiere-annee-2427951
END:VEVENT
END:VCALENDAR
