BEGIN:VCALENDAR
VERSION:2.0
PRODID:-//hacksw/handcal//NONSGML v1.0//EN
BEGIN:VEVENT
SUMMARY:Entrainement libre
UID:4db96186-56e0-4210-9afb-6400b69920c5
DTSTART:20260627T150000Z
DTEND:20260627T180000Z
LOCATION:Localisation   
CATEGORIES:Sportif
STATUS:
URL;VALUE=URI:https://archers-de-quimperle.sportsregions.fr/evenements/2026/06/27/entrainement-libre-2428259
END:VEVENT
END:VCALENDAR
