BEGIN:VCALENDAR
VERSION:2.0
PRODID:-//hacksw/handcal//NONSGML v1.0//EN
BEGIN:VEVENT
SUMMARY:Cours premiere annee
UID:22fac89b-1cd6-42bf-ac13-dddce165e09f
DTSTART:20260704T120000Z
DTEND:20260704T133000Z
LOCATION:Localisation   
CATEGORIES:Sportif
STATUS:
URL;VALUE=URI:https://archers-de-quimperle.sportsregions.fr/evenements/2026/07/04/cours-premiere-annee-2427950
END:VEVENT
END:VCALENDAR
