BEGIN:VCALENDAR
VERSION:2.0
PRODID:-//hacksw/handcal//NONSGML v1.0//EN
BEGIN:VEVENT
SUMMARY:Entrainement libre
UID:0b1b5705-46b6-499f-acfa-0a7ba9237a00
DTSTART:20260704T150000Z
DTEND:20260704T180000Z
LOCATION:Localisation   
CATEGORIES:Sportif
STATUS:
URL;VALUE=URI:https://archers-de-quimperle.sportsregions.fr/evenements/2026/07/04/entrainement-libre-2428258
END:VEVENT
END:VCALENDAR
