BEGIN:VCALENDAR
VERSION:2.0
PRODID:-//hacksw/handcal//NONSGML v1.0//EN
BEGIN:VEVENT
SUMMARY:Cours deuxieme et +
UID:e6b9b9cc-447f-4644-bff2-49f0b6c3ab34
DTSTART:20260711T133000Z
DTEND:20260711T150000Z
LOCATION:Localisation   
CATEGORIES:Sportif
STATUS:
URL;VALUE=URI:https://archers-de-quimperle.sportsregions.fr/evenements/2026/07/11/cours-deuxieme-et-2428103
END:VEVENT
END:VCALENDAR
