BEGIN:VCALENDAR
VERSION:2.0
PRODID:-//hacksw/handcal//NONSGML v1.0//EN
BEGIN:VEVENT
SUMMARY:Cours premiere annee
UID:3f0a1be0-9223-4975-897f-1c80220d8f30
DTSTART:20260711T120000Z
DTEND:20260711T133000Z
LOCATION:Localisation   
CATEGORIES:Sportif
STATUS:
URL;VALUE=URI:https://archers-de-quimperle.sportsregions.fr/evenements/2026/07/11/cours-premiere-annee-2427949
END:VEVENT
END:VCALENDAR
