BEGIN:VCALENDAR
VERSION:2.0
PRODID:-//hacksw/handcal//NONSGML v1.0//EN
BEGIN:VEVENT
SUMMARY:Cours premiere annee
UID:8fec97f1-1010-4d81-ae5d-de0598293649
DTSTART:20260718T120000Z
DTEND:20260718T133000Z
LOCATION:Localisation   
CATEGORIES:Sportif
STATUS:
URL;VALUE=URI:https://archers-de-quimperle.sportsregions.fr/evenements/2026/07/18/cours-premiere-annee-2427948
END:VEVENT
END:VCALENDAR
