BEGIN:VCALENDAR
VERSION:2.0
PRODID:-//hacksw/handcal//NONSGML v1.0//EN
BEGIN:VEVENT
SUMMARY:Entrainement libre
UID:bd15236a-59a1-4f82-a1a3-84717e6a9055
DTSTART:20260718T150000Z
DTEND:20260718T180000Z
LOCATION:Localisation   
CATEGORIES:Sportif
STATUS:
URL;VALUE=URI:https://archers-de-quimperle.sportsregions.fr/evenements/2026/07/18/entrainement-libre-2428256
END:VEVENT
END:VCALENDAR
