BEGIN:VCALENDAR
VERSION:2.0
PRODID:-//hacksw/handcal//NONSGML v1.0//EN
BEGIN:VEVENT
SUMMARY:Cours deuxieme et +
UID:543d0e44-6b9c-439a-8769-dfe00cb84e90
DTSTART:20260725T133000Z
DTEND:20260725T150000Z
LOCATION:Localisation   
CATEGORIES:Sportif
STATUS:
URL;VALUE=URI:https://archers-de-quimperle.sportsregions.fr/evenements/2026/07/25/cours-deuxieme-et-2428101
END:VEVENT
END:VCALENDAR
