BEGIN:VCALENDAR
VERSION:2.0
PRODID:-//hacksw/handcal//NONSGML v1.0//EN
BEGIN:VEVENT
SUMMARY:Cours premiere annee
UID:ea267c48-3899-4fb7-a04b-33b55affb7e0
DTSTART:20260725T120000Z
DTEND:20260725T133000Z
LOCATION:Localisation   
CATEGORIES:Sportif
STATUS:
URL;VALUE=URI:https://archers-de-quimperle.sportsregions.fr/evenements/2026/07/25/cours-premiere-annee-2427947
END:VEVENT
END:VCALENDAR
