BEGIN:VCALENDAR
VERSION:2.0
PRODID:-//hacksw/handcal//NONSGML v1.0//EN
BEGIN:VEVENT
SUMMARY:Entrainement libre
UID:c600c7d9-af86-4ff3-a674-3d8118cc1255
DTSTART:20260725T150000Z
DTEND:20260725T180000Z
LOCATION:Localisation   
CATEGORIES:Sportif
STATUS:
URL;VALUE=URI:https://archers-de-quimperle.sportsregions.fr/evenements/2026/07/25/entrainement-libre-2428255
END:VEVENT
END:VCALENDAR
