BEGIN:VCALENDAR
VERSION:2.0
PRODID:-//hacksw/handcal//NONSGML v1.0//EN
BEGIN:VEVENT
SUMMARY:Entrainement libre
UID:d9bd21ac-7586-42ca-98ea-1540fd2e887e
DTSTART:20260801T150000Z
DTEND:20260801T180000Z
LOCATION:Localisation   
CATEGORIES:Sportif
STATUS:
URL;VALUE=URI:https://archers-de-quimperle.sportsregions.fr/evenements/2026/08/01/entrainement-libre-2428242
END:VEVENT
END:VCALENDAR
