BEGIN:VCALENDAR
VERSION:2.0
PRODID:-//hacksw/handcal//NONSGML v1.0//EN
BEGIN:VEVENT
SUMMARY:Cours deuxieme et +
UID:2811e2b5-3a56-4b92-9c40-f70502fe91f7
DTSTART:20260815T133000Z
DTEND:20260815T150000Z
LOCATION:Localisation   
CATEGORIES:Sportif
STATUS:
URL;VALUE=URI:https://archers-de-quimperle.sportsregions.fr/evenements/2026/08/15/cours-deuxieme-et-2428095
END:VEVENT
END:VCALENDAR
