BEGIN:VCALENDAR
VERSION:2.0
PRODID:-//hacksw/handcal//NONSGML v1.0//EN
BEGIN:VEVENT
SUMMARY:Cours premiere annee
UID:b95d3630-1072-4d46-b82b-1fb950834af5
DTSTART:20260815T120000Z
DTEND:20260815T133000Z
LOCATION:Localisation   
CATEGORIES:Sportif
STATUS:
URL;VALUE=URI:https://archers-de-quimperle.sportsregions.fr/evenements/2026/08/15/cours-premiere-annee-2427941
END:VEVENT
END:VCALENDAR
