BEGIN:VCALENDAR
VERSION:2.0
PRODID:-//hacksw/handcal//NONSGML v1.0//EN
BEGIN:VEVENT
SUMMARY:Entrainement libre
UID:759b5261-7a69-478e-a002-9ca0a5f2944d
DTSTART:20260815T150000Z
DTEND:20260815T180000Z
LOCATION:Localisation   
CATEGORIES:Sportif
STATUS:
URL;VALUE=URI:https://archers-de-quimperle.sportsregions.fr/evenements/2026/08/15/entrainement-libre-2428249
END:VEVENT
END:VCALENDAR
