BEGIN:VCALENDAR
VERSION:2.0
PRODID:-//hacksw/handcal//NONSGML v1.0//EN
BEGIN:VEVENT
SUMMARY:Cours deuxieme et +
UID:0d953ada-7821-4dce-932d-14fdf71bd57f
DTSTART:20260822T133000Z
DTEND:20260822T150000Z
LOCATION:Localisation   
CATEGORIES:Sportif
STATUS:
URL;VALUE=URI:https://archers-de-quimperle.sportsregions.fr/evenements/2026/08/22/cours-deuxieme-et-2428114
END:VEVENT
END:VCALENDAR
