BEGIN:VCALENDAR
VERSION:2.0
PRODID:-//hacksw/handcal//NONSGML v1.0//EN
BEGIN:VEVENT
SUMMARY:Cours premiere annee
UID:66a63fc5-27fa-4e66-a4ff-fec934bb0830
DTSTART:20260822T120000Z
DTEND:20260822T133000Z
LOCATION:Localisation   
CATEGORIES:Sportif
STATUS:
URL;VALUE=URI:https://archers-de-quimperle.sportsregions.fr/evenements/2026/08/22/cours-premiere-annee-2427960
END:VEVENT
END:VCALENDAR
