BEGIN:VCALENDAR
VERSION:2.0
PRODID:-//hacksw/handcal//NONSGML v1.0//EN
BEGIN:VEVENT
SUMMARY:Entrainement libre
UID:8de0d8bd-e15b-4830-a4bd-5abea0c8007a
DTSTART:20260822T150000Z
DTEND:20260822T180000Z
LOCATION:Localisation   
CATEGORIES:Sportif
STATUS:
URL;VALUE=URI:https://archers-de-quimperle.sportsregions.fr/evenements/2026/08/22/entrainement-libre-2428268
END:VEVENT
END:VCALENDAR
