BEGIN:VCALENDAR
VERSION:2.0
PRODID:-//hacksw/handcal//NONSGML v1.0//EN
BEGIN:VEVENT
SUMMARY:Cours premiere annee
UID:97a5f124-04a9-43f4-ba39-e4e86949d082
DTSTART:20260829T120000Z
DTEND:20260829T133000Z
LOCATION:Localisation   
CATEGORIES:Sportif
STATUS:
URL;VALUE=URI:https://archers-de-quimperle.sportsregions.fr/evenements/2026/08/29/cours-premiere-annee-2427957
END:VEVENT
END:VCALENDAR
