BEGIN:VCALENDAR
VERSION:2.0
PRODID:-//hacksw/handcal//NONSGML v1.0//EN
BEGIN:VEVENT
SUMMARY:Entrainement libre
UID:dfea8cd9-b571-4c29-aefe-29d31ad04e48
DTSTART:20260829T150000Z
DTEND:20260829T180000Z
LOCATION:Localisation   
CATEGORIES:Sportif
STATUS:
URL;VALUE=URI:https://archers-de-quimperle.sportsregions.fr/evenements/2026/08/29/entrainement-libre-2428265
END:VEVENT
END:VCALENDAR
