BEGIN:VCALENDAR
VERSION:2.0
PRODID:-//hacksw/handcal//NONSGML v1.0//EN
BEGIN:VEVENT
SUMMARY:Cours deuxieme et +
UID:f98f6647-825f-4589-b12d-e59e044e7c37
DTSTART:20260905T133000Z
DTEND:20260905T150000Z
LOCATION:Localisation   
CATEGORIES:Sportif
STATUS:
URL;VALUE=URI:https://archers-de-quimperle.sportsregions.fr/evenements/2026/09/05/cours-deuxieme-et-2428112
END:VEVENT
END:VCALENDAR
