BEGIN:VCALENDAR
VERSION:2.0
PRODID:-//hacksw/handcal//NONSGML v1.0//EN
BEGIN:VEVENT
SUMMARY:Cours premiere annee
UID:83504e1a-990a-472d-9488-4d307f2b20ae
DTSTART:20260905T120000Z
DTEND:20260905T133000Z
LOCATION:Localisation   
CATEGORIES:Sportif
STATUS:
URL;VALUE=URI:https://archers-de-quimperle.sportsregions.fr/evenements/2026/09/05/cours-premiere-annee-2427958
END:VEVENT
END:VCALENDAR
