BEGIN:VCALENDAR
VERSION:2.0
PRODID:-//hacksw/handcal//NONSGML v1.0//EN
BEGIN:VEVENT
SUMMARY:Entrainement libre
UID:869cd1ed-6766-4193-be90-e44b9141fcc3
DTSTART:20260905T150000Z
DTEND:20260905T180000Z
LOCATION:Localisation   
CATEGORIES:Sportif
STATUS:
URL;VALUE=URI:https://archers-de-quimperle.sportsregions.fr/evenements/2026/09/05/entrainement-libre-2428266
END:VEVENT
END:VCALENDAR
