BEGIN:VCALENDAR
VERSION:2.0
PRODID:-//hacksw/handcal//NONSGML v1.0//EN
BEGIN:VEVENT
SUMMARY:Cours deuxieme et +
UID:c0333b42-33e0-4bbd-9d3e-608d69a9afc3
DTSTART:20260912T133000Z
DTEND:20260912T150000Z
LOCATION:Localisation   
CATEGORIES:Sportif
STATUS:
URL;VALUE=URI:https://archers-de-quimperle.sportsregions.fr/evenements/2026/09/12/cours-deuxieme-et-2428118
END:VEVENT
END:VCALENDAR
