BEGIN:VCALENDAR
VERSION:2.0
PRODID:-//hacksw/handcal//NONSGML v1.0//EN
BEGIN:VEVENT
SUMMARY:Entrainement libre
UID:c3ead925-9b61-4daa-b746-87b0529460ad
DTSTART:20260912T150000Z
DTEND:20260912T180000Z
LOCATION:Localisation   
CATEGORIES:Sportif
STATUS:
URL;VALUE=URI:https://archers-de-quimperle.sportsregions.fr/evenements/2026/09/12/entrainement-libre-2428272
END:VEVENT
END:VCALENDAR
