BEGIN:VCALENDAR
VERSION:2.0
PRODID:-//hacksw/handcal//NONSGML v1.0//EN
BEGIN:VEVENT
SUMMARY:Cours deuxieme et +
UID:c672cee3-23a8-437f-a9a6-691a8c9bef0d
DTSTART:20260919T133000Z
DTEND:20260919T150000Z
LOCATION:Localisation   
CATEGORIES:Sportif
STATUS:
URL;VALUE=URI:https://archers-de-quimperle.sportsregions.fr/evenements/2026/09/19/cours-deuxieme-et-2428117
END:VEVENT
END:VCALENDAR
