BEGIN:VCALENDAR
VERSION:2.0
PRODID:-//hacksw/handcal//NONSGML v1.0//EN
BEGIN:VEVENT
SUMMARY:Cours premiere annee
UID:462dec56-60f6-408a-a6f4-54efcc400e5b
DTSTART:20260919T120000Z
DTEND:20260919T133000Z
LOCATION:Localisation   
CATEGORIES:Sportif
STATUS:
URL;VALUE=URI:https://archers-de-quimperle.sportsregions.fr/evenements/2026/09/19/cours-premiere-annee-2427963
END:VEVENT
END:VCALENDAR
