BEGIN:VCALENDAR
VERSION:2.0
PRODID:-//hacksw/handcal//NONSGML v1.0//EN
BEGIN:VEVENT
SUMMARY:Cours deuxieme et +
UID:76f6b6a8-7cf7-457c-94cb-e927eba6860e
DTSTART:20260926T133000Z
DTEND:20260926T150000Z
LOCATION:Localisation   
CATEGORIES:Sportif
STATUS:
URL;VALUE=URI:https://archers-de-quimperle.sportsregions.fr/evenements/2026/09/26/cours-deuxieme-et-2428116
END:VEVENT
END:VCALENDAR
