BEGIN:VCALENDAR
VERSION:2.0
PRODID:-//hacksw/handcal//NONSGML v1.0//EN
BEGIN:VEVENT
SUMMARY:Entrainement libre
UID:4961e501-c082-4f5a-a488-8329382b323f
DTSTART:20260926T150000Z
DTEND:20260926T180000Z
LOCATION:Localisation   
CATEGORIES:Sportif
STATUS:
URL;VALUE=URI:https://archers-de-quimperle.sportsregions.fr/evenements/2026/09/26/entrainement-libre-2428270
END:VEVENT
END:VCALENDAR
