BEGIN:VCALENDAR
VERSION:2.0
PRODID:-//hacksw/handcal//NONSGML v1.0//EN
BEGIN:VEVENT
SUMMARY:Cours deuxieme et +
UID:295bb249-4677-4fa4-82dd-1b93ff130ebc
DTSTART:20261003T133000Z
DTEND:20261003T150000Z
LOCATION:Localisation   
CATEGORIES:Sportif
STATUS:
URL;VALUE=URI:https://archers-de-quimperle.sportsregions.fr/evenements/2026/10/03/cours-deuxieme-et-2428115
END:VEVENT
END:VCALENDAR
