BEGIN:VCALENDAR
VERSION:2.0
PRODID:-//hacksw/handcal//NONSGML v1.0//EN
BEGIN:VEVENT
SUMMARY:Cours premiere annee
UID:114430b9-ed30-4b73-bc22-3dccedc6cfe8
DTSTART:20261003T120000Z
DTEND:20261003T133000Z
LOCATION:Localisation   
CATEGORIES:Sportif
STATUS:
URL;VALUE=URI:https://archers-de-quimperle.sportsregions.fr/evenements/2026/10/03/cours-premiere-annee-2427961
END:VEVENT
END:VCALENDAR
