BEGIN:VCALENDAR
VERSION:2.0
PRODID:-//hacksw/handcal//NONSGML v1.0//EN
BEGIN:VEVENT
SUMMARY:Entrainement libre
UID:28deac0a-c984-4af7-894c-cb0e1f2889ae
DTSTART:20261003T150000Z
DTEND:20261003T180000Z
LOCATION:Localisation   
CATEGORIES:Sportif
STATUS:
URL;VALUE=URI:https://archers-de-quimperle.sportsregions.fr/evenements/2026/10/03/entrainement-libre-2428269
END:VEVENT
END:VCALENDAR
