BEGIN:VCALENDAR
VERSION:2.0
PRODID:-//hacksw/handcal//NONSGML v1.0//EN
BEGIN:VEVENT
SUMMARY:Cours premiere annee
UID:c54551a8-be1c-44c9-b447-322532727bb7
DTSTART:20261017T120000Z
DTEND:20261017T133000Z
LOCATION:Localisation   
CATEGORIES:Sportif
STATUS:
URL;VALUE=URI:https://archers-de-quimperle.sportsregions.fr/evenements/2026/10/17/cours-premiere-annee-2427956
END:VEVENT
END:VCALENDAR
