BEGIN:VCALENDAR
VERSION:2.0
PRODID:-//hacksw/handcal//NONSGML v1.0//EN
BEGIN:VEVENT
SUMMARY:Entrainement libre
UID:f7b4befa-01a0-4760-9dc1-fd691e346626
DTSTART:20261017T150000Z
DTEND:20261017T180000Z
LOCATION:Localisation   
CATEGORIES:Sportif
STATUS:
URL;VALUE=URI:https://archers-de-quimperle.sportsregions.fr/evenements/2026/10/17/entrainement-libre-2428264
END:VEVENT
END:VCALENDAR
