BEGIN:VCALENDAR
VERSION:2.0
PRODID:-//hacksw/handcal//NONSGML v1.0//EN
BEGIN:VEVENT
SUMMARY:Cours deuxieme et +
UID:c6d52f83-4db5-47f1-bd09-abb3302875f5
DTSTART:20261024T133000Z
DTEND:20261024T150000Z
LOCATION:Localisation   
CATEGORIES:Sportif
STATUS:
URL;VALUE=URI:https://archers-de-quimperle.sportsregions.fr/evenements/2026/10/24/cours-deuxieme-et-2428119
END:VEVENT
END:VCALENDAR
