BEGIN:VCALENDAR
VERSION:2.0
PRODID:-//hacksw/handcal//NONSGML v1.0//EN
BEGIN:VEVENT
SUMMARY:Cours premiere annee
UID:cedf81a7-e5e9-4f41-8689-d03172245bd8
DTSTART:20261024T120000Z
DTEND:20261024T133000Z
LOCATION:Localisation   
CATEGORIES:Sportif
STATUS:
URL;VALUE=URI:https://archers-de-quimperle.sportsregions.fr/evenements/2026/10/24/cours-premiere-annee-2427965
END:VEVENT
END:VCALENDAR
