BEGIN:VCALENDAR
VERSION:2.0
PRODID:-//hacksw/handcal//NONSGML v1.0//EN
BEGIN:VEVENT
SUMMARY:Entrainement libre
UID:65a15bb9-7d25-4764-a4c3-1c942dc80159
DTSTART:20261024T150000Z
DTEND:20261024T180000Z
LOCATION:Localisation   
CATEGORIES:Sportif
STATUS:
URL;VALUE=URI:https://archers-de-quimperle.sportsregions.fr/evenements/2026/10/24/entrainement-libre-2428273
END:VEVENT
END:VCALENDAR
