BEGIN:VCALENDAR
VERSION:2.0
PRODID:-//hacksw/handcal//NONSGML v1.0//EN
BEGIN:VEVENT
SUMMARY:Cours deuxieme et +
UID:61a18e41-fb66-4efb-9ed3-e5c7db78bcf0
DTSTART:20261031T143000Z
DTEND:20261031T160000Z
LOCATION:Localisation   
CATEGORIES:Sportif
STATUS:
URL;VALUE=URI:https://archers-de-quimperle.sportsregions.fr/evenements/2026/10/31/cours-deuxieme-et-2428125
END:VEVENT
END:VCALENDAR
