BEGIN:VCALENDAR
VERSION:2.0
PRODID:-//hacksw/handcal//NONSGML v1.0//EN
BEGIN:VEVENT
SUMMARY:Cours premiere annee
UID:77dd477b-ebfc-4aad-93f1-9e964a64bd96
DTSTART:20261031T130000Z
DTEND:20261031T143000Z
LOCATION:Localisation   
CATEGORIES:Sportif
STATUS:
URL;VALUE=URI:https://archers-de-quimperle.sportsregions.fr/evenements/2026/10/31/cours-premiere-annee-2427971
END:VEVENT
END:VCALENDAR
